BEGIN:VCALENDAR
VERSION:2.0
PRODID:spatie/icalendar-generator
DESCRIPTION:Evenementen van Electrische Museumtramlijn Amsterdam
X-WR-CALDESC:Evenementen van Electrische Museumtramlijn Amsterdam
REFRESH-INTERVAL;VALUE=DURATION:PT1440M
X-PUBLISHED-TTL:PT1440M
BEGIN:VTIMEZONE
TZID:Europe/Amsterdam
BEGIN:DAYLIGHT
DTSTART:20260329T020000Z
TZOFFSETFROM:+0100
TZOFFSETTO:+0200
END:DAYLIGHT
BEGIN:STANDARD
DTSTART:20261025T030000Z
TZOFFSETFROM:+0200
TZOFFSETTO:+0100
END:STANDARD
BEGIN:DAYLIGHT
DTSTART:20270328T020000Z
TZOFFSETFROM:+0100
TZOFFSETTO:+0200
END:DAYLIGHT
END:VTIMEZONE
BEGIN:VTIMEZONE
TZID:UTC
BEGIN:STANDARD
DTSTART:20250725T115938Z
TZOFFSETFROM:+0000
TZOFFSETTO:+0000
END:STANDARD
END:VTIMEZONE
BEGIN:VEVENT
UID:695-45
DTSTAMP:20260421T115938Z
SUMMARY:Museumtramlijn [30]
LOCATION:Haarlemmermeerstation Amstelveenseweg 264  Amsterdam  1075XV
ORGANIZER;CN=Rob Giphart:MAILTO:r.giphart@museumtramlijn.org
RRULE:FREQ=WEEKLY;UNTIL=20261026T000000Z
DTSTART;TZID=Europe/Amsterdam:20261018T110000
DTEND;TZID=Europe/Amsterdam:20261018T170000
X-ALT-DESC;FMTTYPE=TEXT/HTML:<p>Iedere zondag tussen begin april en eind ok
 tober rijden we weer op de museumtramlijn.<br />\nEvery Sunday between ear
 ly April and late October\, we run services on the museum tram line.</p>\n
CATEGORIES:Museumtramlijn
URL;VALUE=URI:https://www.museumtramlijn.org/mc-events/museumtramlijn-30/?m
 c_id=695
METHOD:PUBLISH
END:VEVENT
END:VCALENDAR