BEGIN:VCALENDAR
VERSION:2.0
PRODID:spatie/icalendar-generator
DESCRIPTION:Evenementen van Electrische Museumtramlijn Amsterdam
X-WR-CALDESC:Evenementen van Electrische Museumtramlijn Amsterdam
REFRESH-INTERVAL;VALUE=DURATION:PT1440M
X-PUBLISHED-TTL:PT1440M
BEGIN:VTIMEZONE
TZID:Europe/Amsterdam
BEGIN:STANDARD
DTSTART:20251026T030000Z
TZOFFSETFROM:+0200
TZOFFSETTO:+0100
END:STANDARD
BEGIN:DAYLIGHT
DTSTART:20260329T020000Z
TZOFFSETFROM:+0100
TZOFFSETTO:+0200
END:DAYLIGHT
BEGIN:STANDARD
DTSTART:20261025T030000Z
TZOFFSETFROM:+0200
TZOFFSETTO:+0100
END:STANDARD
END:VTIMEZONE
BEGIN:VTIMEZONE
TZID:UTC
BEGIN:STANDARD
DTSTART:20250725T211240Z
TZOFFSETFROM:+0000
TZOFFSETTO:+0000
END:STANDARD
END:VTIMEZONE
BEGIN:VEVENT
UID:501-44
DTSTAMP:20260421T211240Z
SUMMARY:Stadsritten [20]
LOCATION:De Dam - Opstapplaats Dam (square)  Amsterdam  1012 JS
ORGANIZER;CN=Björn Verzijlbergh:MAILTO:bjornthv@gmail.com
RRULE:FREQ=WEEKLY;UNTIL=20261026T000000Z
DTSTART;TZID=Europe/Amsterdam:20260620T110000
DTEND;TZID=Europe/Amsterdam:20260620T170000
X-ALT-DESC;FMTTYPE=TEXT/HTML:<p>Even tot rust komen? Amsterdam op een ander
 e manier ervaren? Stap gewoon en en geniet van de rit.<br />\nNeed a momen
 t to unwind? Want to experience Amsterdam in a different way? Just hop on 
 and enjoy the ride!</p>\n
CATEGORIES:Stadsritten
URL;VALUE=URI:https://www.museumtramlijn.org/mc-events/stadsritten-20/?mc_i
 d=501
METHOD:PUBLISH
END:VEVENT
END:VCALENDAR