BEGIN:VCALENDAR
VERSION:2.0
PRODID:spatie/icalendar-generator
DESCRIPTION:Evenementen van Electrische Museumtramlijn Amsterdam
X-WR-CALDESC:Evenementen van Electrische Museumtramlijn Amsterdam
REFRESH-INTERVAL;VALUE=DURATION:PT1440M
X-PUBLISHED-TTL:PT1440M
BEGIN:VTIMEZONE
TZID:Europe/Amsterdam
BEGIN:STANDARD
DTSTART:20251026T030000Z
TZOFFSETFROM:+0200
TZOFFSETTO:+0100
END:STANDARD
BEGIN:DAYLIGHT
DTSTART:20260329T020000Z
TZOFFSETFROM:+0100
TZOFFSETTO:+0200
END:DAYLIGHT
BEGIN:STANDARD
DTSTART:20261025T030000Z
TZOFFSETFROM:+0200
TZOFFSETTO:+0100
END:STANDARD
END:VTIMEZONE
BEGIN:VTIMEZONE
TZID:UTC
BEGIN:STANDARD
DTSTART:20250725T225040Z
TZOFFSETFROM:+0000
TZOFFSETTO:+0000
END:STANDARD
END:VTIMEZONE
BEGIN:VEVENT
UID:481-17
DTSTAMP:20260421T225040Z
SUMMARY:Vaderdag actie
LOCATION:Haarlemmermeerstation Amstelveenseweg 264  Amsterdam  1075XV
ORGANIZER;CN=Björn Verzijlbergh:MAILTO:bjornthv@gmail.com
DTSTART;TZID=Europe/Amsterdam;VALUE=DATE:20260621
DTEND;TZID=Europe/Amsterdam;VALUE=DATE:20260622
X-ALT-DESC;FMTTYPE=TEXT/HTML:Op Vaderdag mogen alle vaders GRATIS met ons m
 ee op de museumtramlijn op voorwaarde dat een van de kinderen een tekening
  of kleurplaat voor vaders heeft gemaakt en deze meeneemt. Dan betalen all
 een de kinderen. Uiteraard is de kleurplaat het \"ticket\"\, dus deze moet
  wel worden meegenomen! En natuurlijk is Opa ook een vader\, echter&amp;hellip
 \;
CATEGORIES:Evenementen,  Museumtramlijn
URL;VALUE=URI:https://www.museumtramlijn.org/mc-events/vaderdag-actie/
METHOD:PUBLISH
END:VEVENT
END:VCALENDAR