BEGIN:VCALENDAR
VERSION:2.0
PRODID:spatie/icalendar-generator
DESCRIPTION:Evenementen van Electrische Museumtramlijn Amsterdam
X-WR-CALDESC:Evenementen van Electrische Museumtramlijn Amsterdam
REFRESH-INTERVAL;VALUE=DURATION:PT1440M
X-PUBLISHED-TTL:PT1440M
BEGIN:VTIMEZONE
TZID:Europe/Amsterdam
BEGIN:DAYLIGHT
DTSTART:20260329T020000Z
TZOFFSETFROM:+0100
TZOFFSETTO:+0200
END:DAYLIGHT
BEGIN:STANDARD
DTSTART:20261025T030000Z
TZOFFSETFROM:+0200
TZOFFSETTO:+0100
END:STANDARD
BEGIN:DAYLIGHT
DTSTART:20270328T020000Z
TZOFFSETFROM:+0100
TZOFFSETTO:+0200
END:DAYLIGHT
END:VTIMEZONE
BEGIN:VTIMEZONE
TZID:UTC
BEGIN:STANDARD
DTSTART:20250725T121503Z
TZOFFSETFROM:+0000
TZOFFSETTO:+0000
END:STANDARD
END:VTIMEZONE
BEGIN:VEVENT
UID:475-31
DTSTAMP:20260421T121503Z
SUMMARY:Gesloten
LOCATION:Haarlemmermeerstation Amstelveenseweg 264  Amsterdam  1075XV
ORGANIZER;CN=Björn Verzijlbergh:MAILTO:bjornthv@gmail.com
DTSTART;TZID=Europe/Amsterdam;VALUE=DATE:20261017
DTEND;TZID=Europe/Amsterdam;VALUE=DATE:20261019
X-ALT-DESC;FMTTYPE=TEXT/HTML:Wij zijn deze dag helaas gesloten.
CATEGORIES:Gesloten / Closed
URL;VALUE=URI:https://www.museumtramlijn.org/mc-events/gesloten-2/
METHOD:PUBLISH
END:VEVENT
END:VCALENDAR